BEGIN:VCALENDAR
VERSION:2.0
PRODID:-//eventon.com NONSGML v1.0//EN
CALSCALE:GREGORIAN
METHOD:PUBLISH
BEGIN:VEVENT
UID:69eb31622add7
DTSTAMP:20260424T090122Z
DTSTART:20211210T140000Z
DTEND:20211210T163000Z
LOCATION:Niederrheinisches Museum Kevelaer Hauptstraße 18
SUMMARY:Workshop: Malerische Weihnachten
DESCRIPTION:An diesem Nachmittag bannen die Kinder und Erwachsenen ihre Wei
 hnachtsträume auf die Leinwand. Dabei wird nicht nur der konventionelle Pi
 nsel benutzt und auch der gemalte Schnee muss nicht unbedingt allein aus Fa
 rbe sein… Mit Anmeldung | für Kinder und Erwachsene | Kinder unter 6 Ja
 hren nur in Begleitung | 9\, 50[..]\nhttps://niederrheinisches-museum-kevel
 aer.de/events/workshop-malerische-weihnachten/
URL:https://niederrheinisches-museum-kevelaer.de/events/workshop-malerische-weihnachten/
END:VEVENT
END:VCALENDAR