BEGIN:VCALENDAR
VERSION:2.0
PRODID:-//eventon.com NONSGML v1.0//EN
CALSCALE:GREGORIAN
METHOD:PUBLISH
BEGIN:VEVENT
UID:69e763375a360
DTSTAMP:20260421T114455Z
DTSTART:20210804T100000Z
DTEND:20210804T130000Z
LOCATION:Niederrheinisches Museum Kevelaer Hauptstraße 18
SUMMARY:Sommeratelier: Abenteuer Farbendruck. Plakate erfinden und selber drucken
DESCRIPTION:Inspiriert durch die tollen Filmplakate in der Sonderausstellun
 g erfinden Kinder und Erwachsene ein eigenes Plakat\,  das sie sodann in ei
 ne Linolplatte schnitzen\,  um es anschließend beliebig oft selbst zu druc
 ken. Dabei können die Teilnehmenden mit den unterschiedlichsten Farben und
  deren Kombinationen in Schrift und Bild experimentieren und erleben mit je
 dem[..]\nhttps://niederrheinisches-museum-kevelaer.de/events/sommeratelier-
 abenteuer-farbendruck-plakate-erfinden-und-selber-drucken/
URL:https://niederrheinisches-museum-kevelaer.de/events/sommeratelier-abenteuer-farbendruck-plakate-erfinden-und-selber-drucken/
END:VEVENT
END:VCALENDAR