BEGIN:VCALENDAR
VERSION:2.0
PRODID:-//eventon.com NONSGML v1.0//EN
CALSCALE:GREGORIAN
METHOD:PUBLISH
BEGIN:VEVENT
UID:69e88b7d164b5
DTSTAMP:20260422T084901Z
DTSTART:20210709T150000Z
DTEND:20210709T160000Z
LOCATION:Niederrheinisches Museum Kevelaer Hauptstraße 18
SUMMARY:Öffentliche Führung: Das will ich sehen!
DESCRIPTION:Mit Anmeldung | 5\, 00 Euro pro Person\nhttps://niederrheinisch
 es-museum-kevelaer.de/events/oeffentliche-fuehrung-das-will-ich-sehen/
URL:https://niederrheinisches-museum-kevelaer.de/events/oeffentliche-fuehrung-das-will-ich-sehen/
END:VEVENT
END:VCALENDAR