BEGIN:VCALENDAR
VERSION:2.0
PRODID:-//eventon.com NONSGML v1.0//EN
CALSCALE:GREGORIAN
METHOD:PUBLISH
BEGIN:VEVENT
UID:69e9c0b4ad5e7
DTSTAMP:20260423T064820Z
DTSTART:20210424T150000Z
DTEND:20210424T160000Z
LOCATION:Niederrheinisches Museum Kevelaer Hauptstraße 18
SUMMARY:Wodo-Puppenspiel: Briefe von Felix (ABGESAGT)
DESCRIPTION:Die siebenjährige Sophie hat bei der Rückkehr aus dem Urlau
 b auf dem Flughafen ihren Stoffhasen Felix verloren. Trotz des trostvollen 
 Zuspruchs durch ihre Mutter und ihre kleine Schwester Lena\,  wird sie erst
  etwas über den Verlust hinweggetröstet\,  als der erste Brief von Feli
 x aus London bei ihr ankommt. Felix besucht[..]\nhttps://niederrheinisches-
 museum-kevelaer.de/events/wodo-puppenspiel-briefe-von-felix/
URL:https://niederrheinisches-museum-kevelaer.de/events/wodo-puppenspiel-briefe-von-felix/
END:VEVENT
END:VCALENDAR