BEGIN:VCALENDAR
VERSION:2.0
PRODID:-//eventon.com NONSGML v1.0//EN
CALSCALE:GREGORIAN
METHOD:PUBLISH
BEGIN:VEVENT
UID:69ed526edc9a3
DTSTAMP:20260425T234654Z
DTSTART:20210612T100000Z
DTEND:20210612T110000Z
LOCATION:Niederrheinisches Museum Kevelaer Hauptstraße 18
SUMMARY:Öffentliche Führung: Das will ich sehen! (ABGESAGT)
DESCRIPTION:Das will ich sehen! &#8211; Filmplakate aus 8 Jahrzehnten In de
 r großen Zeit der Kinos konkurrierten selbst in Kleinstädten mehrere Lic
 htspielhäuser um die Gunst des Publikums. Jedes Jahr erschienen hunderte 
 von Filmen und das Kinoplakat war dabei das wichtigste Werbemedium. Diese g
 oldene Zeit des Filmplakats war in den 1950er bis[..]\nhttps://niederrheini
 sches-museum-kevelaer.de/events/oeffentliche-fuehrung-das-muss-ich-sehen-2/
URL:https://niederrheinisches-museum-kevelaer.de/events/oeffentliche-fuehrung-das-muss-ich-sehen-2/
END:VEVENT
END:VCALENDAR