BEGIN:VCALENDAR
VERSION:2.0
PRODID:-//eventon.com NONSGML v1.0//EN
CALSCALE:GREGORIAN
METHOD:PUBLISH
BEGIN:VEVENT
UID:69e8725c2d78b
DTSTAMP:20260422T070148Z
DTSTART:20210516
DTEND:20210517
LOCATION:Niederrheinisches Museum Kevelaer Hauptstraße 18
SUMMARY:Ausstellung: Das will ich sehen!
DESCRIPTION:Das will ich sehen! &#8211; Filmplakate aus 8 Jahrzehnten In de
 r großen Zeit der Kinos konkurrierten selbst in Kleinstädten mehrere Lic
 htspielhäuser um die Gunst des Publikums. Jedes Jahr erschienen hunderte 
 von Filmen und das Kinoplakat war dabei das wichtigste Werbemedium. Diese g
 oldene Zeit des Filmplakats war in den 1950er bis[..]\nhttps://niederrheini
 sches-museum-kevelaer.de/events/austellung-das-muss-ich-sehen/
URL:https://niederrheinisches-museum-kevelaer.de/events/austellung-das-muss-ich-sehen/
END:VEVENT
END:VCALENDAR