BEGIN:VCALENDAR
VERSION:2.0
PRODID:-//eventon.com NONSGML v1.0//EN
CALSCALE:GREGORIAN
METHOD:PUBLISH
BEGIN:VEVENT
UID:69e73aef24df2
DTSTAMP:20260421T085303Z
DTSTART:20210320T150000Z
DTEND:20210320T160000Z
LOCATION:Niederrheinisches Museum Kevelaer Hauptstraße 18
SUMMARY:Themenführung: Stadt\,  Land\,  … Kunsthandwerk (Abgesagt)
DESCRIPTION:Die Geschichte Kevelaers wurde nicht nur vom Menschen geschrieb
 en. Auch die geografische Lage zwischen Maas und Rhein mit ihrer typischen 
 Landschaft und Natur prägte die Entwicklung einer Stadt\,  die zu einer de
 r bedeutendsten Wallfahrtsstätten des Landes werden sollte. So war es schl
 ießlich auch das hier erblühende Kunsthandwerk\,  das die Geschichte[..]
 \nhttps://niederrheinisches-museum-kevelaer.de/events/fuehrung-stadt-land-k
 unsthandwerk/
URL:https://niederrheinisches-museum-kevelaer.de/events/fuehrung-stadt-land-kunsthandwerk/
END:VEVENT
END:VCALENDAR