BEGIN:VCALENDAR
VERSION:2.0
PRODID:-//eventon.com NONSGML v1.0//EN
CALSCALE:GREGORIAN
METHOD:PUBLISH
BEGIN:VEVENT
UID:69ed83c54f256
DTSTAMP:20260426T031725Z
DTSTART:20210220T100000Z
DTEND:20210220T123000Z
LOCATION:Niederrheinisches Museum Kevelaer Hauptstraße 18
SUMMARY:Kinderworkshop: Wunder in der Anderwelt (Abgesagt)
DESCRIPTION:Bezaubert von den farbenreichen Malereien Jansen- Sprengers ers
 chaffen die Kinder wundersame Fantasiewesen und abstrakte Welten auf Acrylg
 las. Aufgetragen mit leuchtenden Glasmalfarben werden diese im Spiel des So
 nnenlichts tatsächlich zum Leben erweckt. Mit Anmeldung | ab 6 Jahren | 10
 \, 00 Euro pro Kind\nhttps://niederrheinisches-museum-kevelaer.de/events/ki
 nderworkshop-wunder-in-der-anderwelt/
URL:https://niederrheinisches-museum-kevelaer.de/events/kinderworkshop-wunder-in-der-anderwelt/
END:VEVENT
END:VCALENDAR