BEGIN:VCALENDAR
VERSION:2.0
PRODID:-//eventon.com NONSGML v1.0//EN
CALSCALE:GREGORIAN
METHOD:PUBLISH
BEGIN:VEVENT
UID:69eb5eddf0788
DTSTAMP:20260424T121525Z
DTSTART:20201213T120000Z
DTEND:20201213T140000Z
LOCATION:Niederrheinisches Museum Kevelaer Hauptstraße 18
SUMMARY:Weihnachtskonzert der Jungen Streicher Kevelaer e.V. (abgesagt)
DESCRIPTION:Bei ihrem traditionellen Winterkonzert am 3. Advent präsentier
 en die Streichmäuse\,  die Cappella Piccola und das Jugendstreichorchester
  ihre in letzter Zeit erarbeiteten Stücke. Höhepunkt ist das gemeinsame 
 Spielen von Weihnachtsliedern aller drei Orchester. Geleitet wird das Konze
 rt von Maren und Thomas Brezinka. Begrenzter Kartenvorverkauf im Museum | 4
 \, 00 Euro pro Person\nhttps://niederrheinisches-museum-kevelaer.de/events/
 weihnachtskonzert-der-jungen-streicher-kevelaer-e-v-2/
URL:https://niederrheinisches-museum-kevelaer.de/events/weihnachtskonzert-der-jungen-streicher-kevelaer-e-v-2/
END:VEVENT
END:VCALENDAR