BEGIN:VCALENDAR
VERSION:2.0
PRODID:-//eventon.com NONSGML v1.0//EN
CALSCALE:GREGORIAN
METHOD:PUBLISH
BEGIN:VEVENT
UID:69eb463a93b4c
DTSTAMP:20260424T103018Z
DTSTART:20201219T150000Z
DTEND:20201219T170000Z
LOCATION:Niederrheinisches Museum Kevelaer Hauptstraße 18
SUMMARY:Märchenlesen in der Ausstellung (abgesagt)
DESCRIPTION:Märchen faszinieren Kinder und Erwachsene seit jeher und solle
 n auch in diesem Jahr wieder in der Adventszeit vorgelesen werden. Dabei we
 rden den kleinen und großen Zuhörern ebenso bekanntere wie unbekanntere W
 erke inmitten der Spielzeugsammlung vorgestellt. Das Mitbringen von Kissen 
 oder Decken ist ausdrücklich erlaubt. Ohne Anmeldung | 4\, 00 Euro pro[..
 ]\nhttps://niederrheinisches-museum-kevelaer.de/events/maerchenlesen-in-der
 -ausstellung-2/
URL:https://niederrheinisches-museum-kevelaer.de/events/maerchenlesen-in-der-ausstellung-2/
END:VEVENT
END:VCALENDAR