BEGIN:VCALENDAR
VERSION:2.0
PRODID:-//eventon.com NONSGML v1.0//EN
CALSCALE:GREGORIAN
METHOD:PUBLISH
BEGIN:VEVENT
UID:69ec360a69162
DTSTAMP:20260425T033330Z
DTSTART:20201107T120000Z
DTEND:20201107T170000Z
LOCATION:
SUMMARY:Faszination in Farbe -Ein Workshop zum Einstieg in die Aquarellmalerei (ABGESAGT)
DESCRIPTION:Ein Workshop zum Einstieg in die Aquarellmalerei Das Aquarell e
 rscheint in vielen Facetten und Formen: sei es in der Spontanität einer Ze
 ichnung oder in einer malerischen Komposition\,  sei es in der Transparenz 
 eines Pastells oder in expressiven\,  kräftigen Farben. Wer sich schon imm
 er mal der Faszination Aquarell hingeben wollte\,  kann[..]\nhttps://nieder
 rheinisches-museum-kevelaer.de/events/faszination-in-farbe-ein-workshop-zum
 -einstieg-in-die-aquarellmalerei/
URL:https://niederrheinisches-museum-kevelaer.de/events/faszination-in-farbe-ein-workshop-zum-einstieg-in-die-aquarellmalerei/
END:VEVENT
END:VCALENDAR