BEGIN:VCALENDAR
VERSION:2.0
PRODID:-//eventon.com NONSGML v1.0//EN
CALSCALE:GREGORIAN
METHOD:PUBLISH
BEGIN:VEVENT
UID:69ed722d070b7
DTSTAMP:20260426T020221Z
DTSTART:20200621T120000Z
DTEND:20200621T140000Z
LOCATION:Niederrheinisches Museum Kevelaer Hauptstraße 18
SUMMARY:Konzert: Sommerkonzert der Jungen Streicher Kevelaer e.V.
DESCRIPTION:Sommerkonzert der Jungen Streicher Kevelaer e.V. Beim tradition
 ellen Sommerkonzert spielen Streichmäuse und Cappella Piccola unter der Le
 itung von Maren Brezinka schwungvolle und gutgelaunte Streichermusik von Ha
 ppy Go Lucky über barocke und klassische Stücke bis hin zu Celtic Suite
  von H. Colledge. Begrenzter Kartenvorverkauf im Museum | 4\, 00 Euro pro P
 erson\nhttps://niederrheinisches-museum-kevelaer.de/events/konzert-sommerko
 nzert-der-jungen-streicher-kevelaer-e-v/
URL:https://niederrheinisches-museum-kevelaer.de/events/konzert-sommerkonzert-der-jungen-streicher-kevelaer-e-v/
END:VEVENT
END:VCALENDAR