BEGIN:VCALENDAR
VERSION:2.0
PRODID:-//eventon.com NONSGML v1.0//EN
CALSCALE:GREGORIAN
METHOD:PUBLISH
BEGIN:VEVENT
UID:69e75013df782
DTSTAMP:20260421T102315Z
DTSTART:20200601T110000Z
DTEND:20200601T130000Z
LOCATION:
SUMMARY:Sommeratelier - Print it up!
DESCRIPTION:Print it up! Druckgraphik = langweilig? Niemals! Zumindest nich
 t in unserer Museumsschule. Denn Drucken bedeutet hier Farbexperimente mit 
 eigens kreierten Vorlagen und Motiven in den unterschiedlichsten Variatione
 n\,  die selbst den teilnehmenden Künstler immer neu ins Staunen versetze
 n. Mit Anmeldung | für Kinder und Erwachsene | Kinder unter 8 Jahren nur[
 ..]\nhttps://niederrheinisches-museum-kevelaer.de/events/sommeratelier-prin
 t-it-up/
URL:https://niederrheinisches-museum-kevelaer.de/events/sommeratelier-print-it-up/
END:VEVENT
END:VCALENDAR