BEGIN:VCALENDAR
VERSION:2.0
PRODID:-//eventon.com NONSGML v1.0//EN
CALSCALE:GREGORIAN
METHOD:PUBLISH
BEGIN:VEVENT
UID:69ece06bac160
DTSTAMP:20260425T154027Z
DTSTART:20200725T150000Z
DTEND:20200725T170000Z
LOCATION:Niederrheinisches Museum Kevelaer Hauptstraße 18
SUMMARY:Ausstellung: Im Glanz des Barock - Öffentliche Führung
DESCRIPTION:Im Glanz des Barock Fayencen des 17. und 18. Jahrhunderts Im Gl
 anz des Barock präsentieren sich niederländische und deutsche Fayencen im
  Niederrheinischen Museum Kevelaer. Vielfältig bemalt und kunstvoll gestal
 tet dienten sie im 17. und 18. Jahrhundert der Repräsentation. Als Zierrat
  füllten unter anderem Vasen und Teller die Wände und Borden[..]\nhttps:
 //niederrheinisches-museum-kevelaer.de/events/ausstellung-im-glanz-des-baro
 ck-oeffentliche-fuehrung/
URL:https://niederrheinisches-museum-kevelaer.de/events/ausstellung-im-glanz-des-barock-oeffentliche-fuehrung/
END:VEVENT
END:VCALENDAR