BEGIN:VCALENDAR
VERSION:2.0
PRODID:-//eventon.com NONSGML v1.0//EN
CALSCALE:GREGORIAN
METHOD:PUBLISH
BEGIN:VEVENT
UID:69e5830a95c45
DTSTAMP:20260420T013610Z
DTSTART:20200312T150000Z
DTEND:20200312T160000Z
LOCATION:Niederrheinisches Museum Kevelaer Hauptstraße 18
SUMMARY:Austellung: Im Glanz des Barock - Aber bitte mit Sahne!
DESCRIPTION:„Im Glanz des Barock“ Fayencen des 17. und 18. Jahrhunderts
  Führung durch die Sonderausstellung mit anschließendem Kaffee\,  Kuchen
  und die Sahne darf natürlich auch nicht fehlen. Anmeldung erforderlich |
  7\, 50 Euro pro Person\nhttps://niederrheinisches-museum-kevelaer.de/event
 s/austellung-im-glanz-des-barock-aber-bitte-mit-sahne/
URL:https://niederrheinisches-museum-kevelaer.de/events/austellung-im-glanz-des-barock-aber-bitte-mit-sahne/
END:VEVENT
END:VCALENDAR