BEGIN:VCALENDAR
VERSION:2.0
PRODID:-//eventon.com NONSGML v1.0//EN
CALSCALE:GREGORIAN
METHOD:PUBLISH
BEGIN:VEVENT
UID:69e79c9884216
DTSTAMP:20260421T154944Z
DTSTART:20200301
DTEND:20200302
LOCATION:Niederrheinisches Museum Kevelaer Hauptstraße 18
SUMMARY:Austellung: Im Glanz des Barock
DESCRIPTION:„Im Glanz des Barock“ Fayencen des 17. und 18. Jahrhunderts
  Im Glanz des Barock präsentieren sich niederländische und deutsche Fayen
 cen ab dem 1. März im Niederrheinischen Museum Kevelaer. Vielfältig bemal
 t und kunstvoll gestaltet dienten sie im 17. und 18. Jahrhundert der Reprä
 sentation. Als Zierrat füllten unter anderem Vasen und Teller[..]\nhttps:
 //niederrheinisches-museum-kevelaer.de/events/austellung-im-glanz-des-baroc
 k/
URL:https://niederrheinisches-museum-kevelaer.de/events/austellung-im-glanz-des-barock/
END:VEVENT
END:VCALENDAR