BEGIN:VCALENDAR
VERSION:2.0
PRODID:-//eventon.com NONSGML v1.0//EN
CALSCALE:GREGORIAN
METHOD:PUBLISH
BEGIN:VEVENT
UID:69e943d001db7
DTSTAMP:20260422T215528Z
DTSTART:20191110T110000Z
DTEND:20191110T150000Z
LOCATION:Niederrheinisches Museum Kevelaer HauptstraÃŸe 18
SUMMARY:Tanztheater â€žMomotaro\,  der Pfirsichjungeâ€œ
DESCRIPTION:Momotaro\,  der rÃ¤tselhafte Junge aus dem Pfirsich\,  wÃ¤chst 
 und gedeiht durch die Liebe eines armen und alten Ehepaares. Eines Tages zi
 eht er los\,  um das Dorf\,  in dem er lebt\,  vor den Angriffen der bÃ¶sen
  Oni zu beschuÌˆtzen. Eine abenteuerliche Fahrt beginnt. In diesem 45-minuÌ
 ˆtigen BuÌˆhnenstuÌˆck erzÃ¤hlen die 8- bis[..]\nhttps://niederrheinisches-
 museum-kevelaer.de/events/tanztheater-momotaro-der-pfirsichjunge/
URL:https://niederrheinisches-museum-kevelaer.de/events/tanztheater-momotaro-der-pfirsichjunge/
END:VEVENT
END:VCALENDAR