BEGIN:VCALENDAR
VERSION:2.0
PRODID:-//eventon.com NONSGML v1.0//EN
CALSCALE:GREGORIAN
METHOD:PUBLISH
BEGIN:VEVENT
UID:69ed5ff8d3171
DTSTAMP:20260426T004440Z
DTSTART:20191130T150000Z
DTEND:20191130T170000Z
LOCATION:Niederrheinisches Museum Kevelaer Hauptstraße 18
SUMMARY:Führung: Auf den Spuren von Heinrich Hoffmann\,  Wilhelm Busch und Heinrich Heine
DESCRIPTION:…wandeln die Besucher in dieser etwas anderen Führung durch
  das Museum und entdecken dabei vor allem das 19. Jahrhundert\,  das durch 
 die berühmten Dichter geprägt wurde. Die Erinnerung an die verschiedenen
  literarischen Werke wird auf dieser „Zeitreise“ lebendig. Keine Anmeld
 ung erforderlich | 5\, 00 Euro pro Person\nhttps://niederrheinisches-museum
 -kevelaer.de/events/fuehrung-auf-den-spuren-von-heinrich-hoffmann-wilhelm-b
 usch-und-heinrich-heine/
URL:https://niederrheinisches-museum-kevelaer.de/events/fuehrung-auf-den-spuren-von-heinrich-hoffmann-wilhelm-busch-und-heinrich-heine/
END:VEVENT
END:VCALENDAR