BEGIN:VCALENDAR
VERSION:2.0
PRODID:-//eventon.com NONSGML v1.0//EN
CALSCALE:GREGORIAN
METHOD:PUBLISH
BEGIN:VEVENT
UID:69eba345accb9
DTSTAMP:20260424T170717Z
DTSTART:20191206T140000Z
DTEND:20191206T160000Z
LOCATION:Niederrheinisches Museum Kevelaer Hauptstraße 18
SUMMARY:WINTERATELIER: Was der Nikolaus im Stiefel hat…
DESCRIPTION:Im Advent gibt es in den Ateliers des Niederrheinischen Museums
  keine Altersbegrenzung. Jung und Junggebliebene treffen sich an den Dezemb
 erfreitagen in der Museumsschule\,  um weihnachtliche Traditionen malend un
 d bastelnd lebendig werden zu lassen. Die Teilnehmenden können sich an ver
 schiedenen Kreativvorschlägen ausprobieren und sich gegenseitig inspiriere
 n. Keine Anmeldung erforderlich | keine[..]\nhttps://niederrheinisches-muse
 um-kevelaer.de/events/winteratelier-was-der-nikolaus-im-stiefel-hat/
URL:https://niederrheinisches-museum-kevelaer.de/events/winteratelier-was-der-nikolaus-im-stiefel-hat/
END:VEVENT
END:VCALENDAR