BEGIN:VCALENDAR
VERSION:2.0
PRODID:-//eventon.com NONSGML v1.0//EN
CALSCALE:GREGORIAN
METHOD:PUBLISH
BEGIN:VEVENT
UID:69eb76ac1f5af
DTSTAMP:20260424T135700Z
DTSTART:20191116T100000Z
DTEND:20191116T120000Z
LOCATION:Niederrheinisches Museum Kevelaer Hauptstraße 18
SUMMARY:Workshop: „Bald\,  bald\,  bald…“ Adventskalender selbst gestalten
DESCRIPTION:Es ist schon eine Tradition im Niederrheinischen Museum: Im Nov
 ember-Workshop dreht sich alles um die besonderen 24 Türchen. Auch in die
 sem Jahr wollen wir uns so mit bunten Farben und Collagen auf den Advent ei
 nstimmen. Anmeldung erforderlich | ab 6 Jahren | 6\, 00 Euro pro Kind\nhttp
 s://niederrheinisches-museum-kevelaer.de/events/workshop-bald-bald-bald-adv
 entskalender-selbst-gestalten/
URL:https://niederrheinisches-museum-kevelaer.de/events/workshop-bald-bald-bald-adventskalender-selbst-gestalten/
END:VEVENT
END:VCALENDAR