BEGIN:VCALENDAR
VERSION:2.0
PRODID:-//eventon.com NONSGML v1.0//EN
CALSCALE:GREGORIAN
METHOD:PUBLISH
BEGIN:VEVENT
UID:69eb5eddbbcf6
DTSTAMP:20260424T121525Z
DTSTART:20191213T190000Z
DTEND:20191213T200000Z
LOCATION:Niederrheinisches Museum Kevelaer Hauptstraße 18
SUMMARY:Vortrag: Das Bilderbuch im Wandel der Zeit
DESCRIPTION:Bilderbücher für Kinder sind heutzutage ein weit verbreitet
 es Kulturgut und in vielen Kinderzimmern und pädagogischen Einrichtungen z
 u finden. Ihre sprachförderlichen Eigenschaften und der positive Effekt de
 s Vorlesens für Kinder sind heute unbestritten. Generationen haben ihre e
 igenen Erinnerungen an besonders eindrückliche Bilderbuchgeschichten und 
 geben sie gerne weiter. Doch wie kam es[..]\nhttps://niederrheinisches-muse
 um-kevelaer.de/events/vortrag-das-bilderbuch-im-wandel-der-zeit/
URL:https://niederrheinisches-museum-kevelaer.de/events/vortrag-das-bilderbuch-im-wandel-der-zeit/
END:VEVENT
END:VCALENDAR