BEGIN:VCALENDAR
VERSION:2.0
PRODID:-//eventon.com NONSGML v1.0//EN
CALSCALE:GREGORIAN
METHOD:PUBLISH
BEGIN:VEVENT
UID:69e74e8f796a5
DTSTAMP:20260421T101647Z
DTSTART:20191029T153000Z
DTEND:20191029T173000Z
LOCATION:Niederrheinisches Museum Kevelaer Hauptstraße 18
SUMMARY:Lehrerfortbildung
DESCRIPTION:Anmeldung erforderlich | für Lehrer kostenlos\nhttps://nieder
 rheinisches-museum-kevelaer.de/events/lehrerfortbildung/
URL:https://niederrheinisches-museum-kevelaer.de/events/lehrerfortbildung/
END:VEVENT
END:VCALENDAR