BEGIN:VCALENDAR
VERSION:2.0
PRODID:-//eventon.com NONSGML v1.0//EN
CALSCALE:GREGORIAN
METHOD:PUBLISH
BEGIN:VEVENT
UID:69ea4fe374f15
DTSTAMP:20260423T165915Z
DTSTART:20190921T100000Z
DTEND:20190921T123000Z
LOCATION:Niederrheinisches Museum Kevelaer Hauptstraße 18
SUMMARY:Madonn – art for me
DESCRIPTION:Kinderworkshop zum Madonnari-Festival In diesem Workshop wollen
  wir es den Künstlern im Forum PaxChristi gleichtun: Das Motiv ist die Ma
 donna\,  unser Material sind Kreiden und Wachsmalstifte\,  das Papier ist v
 on üppiger Größe und der Bildträger aus Holz. Damit entsteht dann in M
 useumsschule und Wintergarten unser eigenes kleines Festival. Anmeldung erf
 orderlich[..]\nhttps://niederrheinisches-museum-kevelaer.de/events/madonn-a
 rt-for-me/
URL:https://niederrheinisches-museum-kevelaer.de/events/madonn-art-for-me/
END:VEVENT
END:VCALENDAR