BEGIN:VCALENDAR
VERSION:2.0
PRODID:-//eventon.com NONSGML v1.0//EN
CALSCALE:GREGORIAN
METHOD:PUBLISH
BEGIN:VEVENT
UID:69ea40aed5c4e
DTSTAMP:20260423T155422Z
DTSTART:20190809T135300Z
DTEND:20190809T135300Z
LOCATION:Niederrheinisches Museum Kevelaer HauptstraÃŸe 18
SUMMARY:Ã–ffentliche FÃ¼hrung - Von Menschen und stillen Helden
DESCRIPTION:&#8222;Von Menschen und stillen Helden&#8220; | Ã–ffentliche FÃ
 ¼hrung | 15.00 Uhr | 5\, 00 Euro pro Person | keine Anmeldung erforderlich\
 nhttps://niederrheinisches-museum-kevelaer.de/events/oeffentliche-fuehrung-
 von-menschen-und-stillen-helden/
URL:https://niederrheinisches-museum-kevelaer.de/events/oeffentliche-fuehrung-von-menschen-und-stillen-helden/
END:VEVENT
END:VCALENDAR