BEGIN:VCALENDAR
VERSION:2.0
PRODID:-//eventon.com NONSGML v1.0//EN
CALSCALE:GREGORIAN
METHOD:PUBLISH
BEGIN:VEVENT
UID:69ea286c5e2ee
DTSTAMP:20260423T141052Z
DTSTART:20190905T150000Z
DTEND:20190905T170000Z
LOCATION:Niederrheinisches Museum Kevelaer Hauptstraße 18
SUMMARY:Von Menschen und stillen Helden\,  aber bitte mit Sahne!" Führung
DESCRIPTION:&#8222;Von Menschen und stillen Helden\,  aber bitte mit Sahne!
 &#8220; Führung mit Kaffee und Kuchen | 15.00 Uhr | 6\, 50 pro Person | An
 meldung erforderlich\nhttps://niederrheinisches-museum-kevelaer.de/events/v
 on-menschen-und-stillen-helden-aber-bitte-mit-sahne-fuehrung/
URL:https://niederrheinisches-museum-kevelaer.de/events/von-menschen-und-stillen-helden-aber-bitte-mit-sahne-fuehrung/
END:VEVENT
END:VCALENDAR