BEGIN:VCALENDAR
VERSION:2.0
PRODID:-//eventon.com NONSGML v1.0//EN
CALSCALE:GREGORIAN
METHOD:PUBLISH
BEGIN:VEVENT
UID:69ea3f32e9b91
DTSTAMP:20260423T154802Z
DTSTART:20190809T170000Z
DTEND:20190809T200000Z
LOCATION:Niederrheinisches Museum Kevelaer Hauptstraße 18
SUMMARY:Nachts im Museum - Kinder- und Familienführung
DESCRIPTION:Auch wenn es im Sommer draußen lange hell ist\,  gibt es die M
 öglichkeit das Museum im Dunkeln zu entdecken. Dieses Mal geht es in die F
 euerwehr-Ausstellung\,  wo mit Sicherheit die eine oder andere Überraschun
 g wartet. Also Taschenlampe nicht vergessen! &#8222;Nachts im Museum&#8220;
  Kinder- und Familienführung durch die Sonderausstellung &#8222;Von Mensch
 en[..]\nhttps://niederrheinisches-museum-kevelaer.de/events/nachts-im-museu
 m-kinder-und-familienfuehrung/
URL:https://niederrheinisches-museum-kevelaer.de/events/nachts-im-museum-kinder-und-familienfuehrung/
END:VEVENT
END:VCALENDAR