BEGIN:VCALENDAR
VERSION:2.0
PRODID:-//eventon.com NONSGML v1.0//EN
CALSCALE:GREGORIAN
METHOD:PUBLISH
BEGIN:VEVENT
UID:69ed13ce2fee8
DTSTAMP:20260425T191942Z
DTSTART:20190804T100000Z
DTEND:20190804T180000Z
LOCATION:Niederrheinisches Museum Kevelaer Hauptstraße 18
SUMMARY:Aktionstag zur Ausstellung - Von Menschen und stillen Helden
DESCRIPTION:Menschen\,  Helden\,  Feuerwehrleute &#8211; an diesem Tag kön
 nen Klein und Groß zwischen Führungen und Workshops live erleben\,  was d
 ie Feuerwehr für uns ihre Helfer bedeutet. Aktionstag zur Ausstellung &#82
 22;Von Menschen und stillen Helden&#8220; | freier Eintritt in die Ausstell
 ung und Aktionen rund um das Thema Feuerwehr | 11.00 bis 18.00[..]\nhttps:/
 /niederrheinisches-museum-kevelaer.de/events/aktionstag-zur-ausstellung-von
 -menschen-und-stillen-helden/
URL:https://niederrheinisches-museum-kevelaer.de/events/aktionstag-zur-ausstellung-von-menschen-und-stillen-helden/
END:VEVENT
END:VCALENDAR