BEGIN:VCALENDAR
VERSION:2.0
PRODID:-//eventon.com NONSGML v1.0//EN
CALSCALE:GREGORIAN
METHOD:PUBLISH
BEGIN:VEVENT
UID:69e73b84870f9
DTSTAMP:20260421T085532Z
DTSTART:20190518T190000Z
DTEND:20190518T210000Z
LOCATION:Niederrheinisches Museum Kevelaer Hauptstraße 18
SUMMARY:Abendführung
DESCRIPTION:Im Abendlicht verwandeln sich nicht nur Natur und Landschaft in
  Farbe und Stimmung. Auch im Museum verändert sich die Sicht auf die Dinge
  im Verlauf der Tageszeiten. Genießen Sie daher bei einer abendlichen Füh
 rung die außergewöhnliche Atmosphäre in unserem Haus außerhalb der eige
 ntlichen Öffnungszeiten. Abendführung | 19.00 Uhr | Eintritt[..]\nhttps:/
 /niederrheinisches-museum-kevelaer.de/events/abendfuehrung/
URL:https://niederrheinisches-museum-kevelaer.de/events/abendfuehrung/
END:VEVENT
END:VCALENDAR