BEGIN:VCALENDAR
VERSION:2.0
PRODID:-//eventon.com NONSGML v1.0//EN
CALSCALE:GREGORIAN
METHOD:PUBLISH
BEGIN:VEVENT
UID:69e73aef2cc46
DTSTAMP:20260421T085303Z
DTSTART:20190518T100000Z
DTEND:20190518T120000Z
LOCATION:Niederrheinisches Museum Kevelaer HauptstraÃŸe 18
SUMMARY:KulTouratelier | im Rahmen der KKKtage
DESCRIPTION:Zu den 21. Kreis Klever KulTourtagen Ã¶ffnen wir bereits am Vor
 mittag die Museumsschule\,  wo kleine und groÃŸe Kreative Kultur selbst ges
 talten kÃ¶nnen. Diese ist gerade im Kreis Kleve durch die Wallfahrten geprÃ
 ¤gt und spiegelt sich unter anderem in bunten FÃ¤hnchen und Votivfiguren wi
 eder\,  die im Atelier der modernen Zeit gemÃ¤ÃŸ[..]\nhttps://niederrheinis
 ches-museum-kevelaer.de/events/kultouratelier-im-rahme-der-kkktage/
URL:https://niederrheinisches-museum-kevelaer.de/events/kultouratelier-im-rahme-der-kkktage/
END:VEVENT
END:VCALENDAR