BEGIN:VCALENDAR
VERSION:2.0
PRODID:-//eventon.com NONSGML v1.0//EN
CALSCALE:GREGORIAN
METHOD:PUBLISH
BEGIN:VEVENT
UID:69e520b43d937
DTSTAMP:20260419T183636Z
DTSTART:20190420T113000Z
DTEND:20190420T140000Z
LOCATION:Niederrheinisches Museum Kevelaer HauptstraÃŸe 18
SUMMARY:Workshop: Osteratelier
DESCRIPTION:Im Anschluss an die traditionelle Ostereiersuche im Museum Ã¶ff
 net sich die Museumsschule zum offenen Atelier\,  wo die Kinder ihr OsterkÃ
 ¶rbchen mit Selbstgebasteltem weiter fÃ¼llen kÃ¶nnen. Zwischen bunten und v
 ielfÃ¤ltigen Kreativangeboten freuen wir uns auch Ã¼ber Eltern\,  GroÃŸelte
 rn\,  Geschwister und Freunde zur gegenseitigen Inspiration. So macht FrÃ¼h
 ling SpaÃŸ! Osteratelier | 11.30[..]\nhttps://niederrheinisches-museum-keve
 laer.de/events/workshop-osteratelier/
URL:https://niederrheinisches-museum-kevelaer.de/events/workshop-osteratelier/
END:VEVENT
END:VCALENDAR