BEGIN:VCALENDAR
VERSION:2.0
PRODID:-//eventon.com NONSGML v1.0//EN
CALSCALE:GREGORIAN
METHOD:PUBLISH
BEGIN:VEVENT
UID:69e5069b9d118
DTSTAMP:20260419T164515Z
DTSTART:20190331T110000Z
DTEND:20190331T190000Z
LOCATION:Niederrheinisches Museum Kevelaer Hauptstraße 18
SUMMARY:Aktionstag: Flowerpower & Weltraumdesign
DESCRIPTION:„Flowerpower &amp; Weltraumdesign“ &#8211; Aktionstag ganz 
 im Sinne der 60er und 70er Jahre! Programm: 11.00 Uhr | 13.00 Uhr &#8211; F
 ührungen durch die Sonderausstellung 12.00 Uhr &#8211; Auftritt der „Ast
 rogirls“ des VFR Blau-Gold Kevelaer e.V. 12.00 – 15.00 Uhr &#8211; Fris
 uren der Zeit werden im alten Friseur durch das Haarstudio[..]\nhttps://nie
 derrheinisches-museum-kevelaer.de/events/aktionstag-flowerpower-weltraumdes
 ign/
URL:https://niederrheinisches-museum-kevelaer.de/events/aktionstag-flowerpower-weltraumdesign/
END:VEVENT
END:VCALENDAR