BEGIN:VCALENDAR
VERSION:2.0
PRODID:-//eventon.com NONSGML v1.0//EN
CALSCALE:GREGORIAN
METHOD:PUBLISH
BEGIN:VEVENT
UID:69e4ec2b1a473
DTSTAMP:20260419T145227Z
DTSTART:20190409T190000Z
DTEND:20190409T203000Z
LOCATION:Niederrheinisches Museum Kevelaer Hauptstraße 18
SUMMARY:Bildvortrag - 100 Jahre Bauhaus
DESCRIPTION:Der Gedanke des Bauhauses und seine Wurzeln sowie die Bauhausge
 schichte von 1919 bis 1933 werden beleuchtet anhand seiner Mitarbeiter und 
 deren Wirkungsstätten in Weimar\,  Dessau und Berlin. Die internationalen 
 Begleiter in Europa sowie die Wirkung und Erben der Bauhauskultur in der ga
 nzen Welt werden beispielhaft vor die Augen und Ohren[..]\nhttps://niederrh
 einisches-museum-kevelaer.de/events/bildvortrag-100-jahre-bauhaus/
URL:https://niederrheinisches-museum-kevelaer.de/events/bildvortrag-100-jahre-bauhaus/
END:VEVENT
END:VCALENDAR