BEGIN:VCALENDAR
VERSION:2.0
PRODID:-//eventon.com NONSGML v1.0//EN
CALSCALE:GREGORIAN
METHOD:PUBLISH
BEGIN:VEVENT
UID:69e8a5570e229
DTSTAMP:20260422T103919Z
DTSTART:20190127T140000Z
DTEND:20190127T160000Z
LOCATION:Niederrheinisches Museum Kevelaer Hauptstraße 18
SUMMARY:Öffentliche Führung Dauerausstellung "Zeitreise"
DESCRIPTION:5\, 00 Euro | keine Anmeldung erforderlich\nhttps://niederrhein
 isches-museum-kevelaer.de/events/oeffentliche-fuehrung-dauerausstellung-zei
 treise/
URL:https://niederrheinisches-museum-kevelaer.de/events/oeffentliche-fuehrung-dauerausstellung-zeitreise/
END:VEVENT
END:VCALENDAR